BEGIN:VCALENDAR
VERSION:2.0
PRODID:spatie/icalendar-generator
DESCRIPTION:Events from Unity of Lakeland
X-WR-CALDESC:Events from Unity of Lakeland
REFRESH-INTERVAL;VALUE=DURATION:PT1440M
X-PUBLISHED-TTL:PT1440M
BEGIN:VTIMEZONE
TZID:America/New_York
BEGIN:STANDARD
DTSTART:20251102T020000Z
TZOFFSETFROM:-0400
TZOFFSETTO:-0500
END:STANDARD
BEGIN:DAYLIGHT
DTSTART:20260308T020000Z
TZOFFSETFROM:-0500
TZOFFSETTO:-0400
END:DAYLIGHT
BEGIN:STANDARD
DTSTART:20261101T020000Z
TZOFFSETFROM:-0400
TZOFFSETTO:-0500
END:STANDARD
END:VTIMEZONE
BEGIN:VTIMEZONE
TZID:UTC
BEGIN:STANDARD
DTSTART:20250728T154732Z
TZOFFSETFROM:+0000
TZOFFSETTO:+0000
END:STANDARD
END:VTIMEZONE
BEGIN:VEVENT
UID:1064-38
DTSTAMP:20260424T154732Z
SUMMARY:Rummikub
LOCATION:Unity of Lakeland 6230 Lakeland Highlands Rd.  Lakeland FL 33813
ORGANIZER;CN=minister:MAILTO:unityinthegrove@aol.com
RRULE:FREQ=MONTHLY;BYDAY=3TU;UNTIL=20290515T000000Z
DTSTART;TZID=America/New_York:20260519T103000
DTEND;TZID=America/New_York:20260519T123000
X-ALT-DESC;FMTTYPE=TEXT/HTML:Join us to play Rummikub on the third Tuesday 
 of each month at 10:30 AM.  No experience necessary. Bring your own snack
 /lunch and drink. For more information\, please see Joy Beatty.
CATEGORIES:Special Events
URL;VALUE=URI:https://unitylakeland.org/mc-events/rummikub/?mc_id=1064
METHOD:PUBLISH
END:VEVENT
END:VCALENDAR