BEGIN:VCALENDAR
VERSION:2.0
PRODID:spatie/icalendar-generator
DESCRIPTION:Events from Unity of Lakeland
X-WR-CALDESC:Events from Unity of Lakeland
REFRESH-INTERVAL;VALUE=DURATION:PT1440M
X-PUBLISHED-TTL:PT1440M
BEGIN:VTIMEZONE
TZID:America/New_York
BEGIN:STANDARD
DTSTART:20251102T020000Z
TZOFFSETFROM:-0400
TZOFFSETTO:-0500
END:STANDARD
BEGIN:DAYLIGHT
DTSTART:20260308T020000Z
TZOFFSETFROM:-0500
TZOFFSETTO:-0400
END:DAYLIGHT
BEGIN:STANDARD
DTSTART:20261101T020000Z
TZOFFSETFROM:-0400
TZOFFSETTO:-0500
END:STANDARD
END:VTIMEZONE
BEGIN:VTIMEZONE
TZID:UTC
BEGIN:STANDARD
DTSTART:20250728T211455Z
TZOFFSETFROM:+0000
TZOFFSETTO:+0000
END:STANDARD
END:VTIMEZONE
BEGIN:VEVENT
UID:1029-13
DTSTAMP:20260424T211455Z
SUMMARY:Metaphysical Class- 1st Thursday
LOCATION:Unity of Lakeland 6230 Lakeland Highlands Rd.  Lakeland FL 33813
ORGANIZER;CN=minister:MAILTO:unityinthegrove@aol.com
RRULE:FREQ=MONTHLY;BYDAY=1TH;UNTIL=20280302T000000Z
DTSTART;TZID=America/New_York:20260507T103000
DTEND;TZID=America/New_York:20260507T120000
X-ALT-DESC;FMTTYPE=TEXT/HTML:We are viewing short videos about the ego and 
 discussing it.
CATEGORIES:Metaphysics
URL;VALUE=URI:https://unitylakeland.org/mc-events/metaphysical-class-1st-th
 ursday/?mc_id=1029
METHOD:PUBLISH
END:VEVENT
END:VCALENDAR