BEGIN:VCALENDAR
VERSION:2.0
PRODID:spatie/icalendar-generator
DESCRIPTION:Events from Unity of Lakeland
X-WR-CALDESC:Events from Unity of Lakeland
REFRESH-INTERVAL;VALUE=DURATION:PT1440M
X-PUBLISHED-TTL:PT1440M
BEGIN:VTIMEZONE
TZID:America/New_York
BEGIN:STANDARD
DTSTART:20251102T020000Z
TZOFFSETFROM:-0400
TZOFFSETTO:-0500
END:STANDARD
BEGIN:DAYLIGHT
DTSTART:20260308T020000Z
TZOFFSETFROM:-0500
TZOFFSETTO:-0400
END:DAYLIGHT
END:VTIMEZONE
BEGIN:VTIMEZONE
TZID:UTC
BEGIN:STANDARD
DTSTART:20250728T140925Z
TZOFFSETFROM:+0000
TZOFFSETTO:+0000
END:STANDARD
END:VTIMEZONE
BEGIN:VEVENT
UID:981-12
DTSTAMP:20260424T140925Z
SUMMARY:Metaphysical Class- 3rd Thursday
LOCATION:Unity of Lakeland 6230 Lakeland Highlands Rd.  Lakeland FL 33813
ORGANIZER;CN=minister:MAILTO:unityinthegrove@aol.com
RRULE:FREQ=MONTHLY;BYDAY=3TH;UNTIL=20280217T000000Z
DTSTART;TZID=America/New_York:20260416T103000
DTEND;TZID=America/New_York:20260416T120000
X-ALT-DESC;FMTTYPE=TEXT/HTML:We are viewing short videos about the ego and 
 discussing it.
CATEGORIES:Metaphysics
URL;VALUE=URI:https://unitylakeland.org/mc-events/metaphysical-class-3rd-th
 ursday/?mc_id=981
METHOD:PUBLISH
END:VEVENT
END:VCALENDAR