BEGIN:VCALENDAR
VERSION:2.0
PRODID:spatie/icalendar-generator
DESCRIPTION:Events from Unity of Lakeland
X-WR-CALDESC:Events from Unity of Lakeland
REFRESH-INTERVAL;VALUE=DURATION:PT1440M
X-PUBLISHED-TTL:PT1440M
BEGIN:VTIMEZONE
TZID:America/New_York
BEGIN:STANDARD
DTSTART:20251102T020000Z
TZOFFSETFROM:-0400
TZOFFSETTO:-0500
END:STANDARD
BEGIN:DAYLIGHT
DTSTART:20260308T020000Z
TZOFFSETFROM:-0500
TZOFFSETTO:-0400
END:DAYLIGHT
END:VTIMEZONE
BEGIN:VTIMEZONE
TZID:UTC
BEGIN:STANDARD
DTSTART:20250728T155004Z
TZOFFSETFROM:+0000
TZOFFSETTO:+0000
END:STANDARD
END:VTIMEZONE
BEGIN:VEVENT
UID:818-36
DTSTAMP:20260424T155004Z
SUMMARY:Monthly Meditation Group
LOCATION:
ORGANIZER;CN=minister:MAILTO:unityinthegrove@aol.com
RRULE:FREQ=MONTHLY;BYDAY=4TH;UNTIL=20290426T000000Z
DTSTART;TZID=America/New_York:20260423T184500
DTEND;TZID=America/New_York:20260423T194500
X-ALT-DESC;FMTTYPE=TEXT/HTML:
CATEGORIES:Center for Expanded Consciousness
URL;VALUE=URI:https://unitylakeland.org/mc-events/monthly-meditation-group/
 ?mc_id=818
METHOD:PUBLISH
END:VEVENT
END:VCALENDAR