BEGIN:VCALENDAR
VERSION:2.0
PRODID:spatie/icalendar-generator
DESCRIPTION:Events from Unity of Lakeland
X-WR-CALDESC:Events from Unity of Lakeland
REFRESH-INTERVAL;VALUE=DURATION:PT1440M
X-PUBLISHED-TTL:PT1440M
BEGIN:VTIMEZONE
TZID:America/New_York
BEGIN:DAYLIGHT
DTSTART:20240310T020000Z
TZOFFSETFROM:-0500
TZOFFSETTO:-0400
END:DAYLIGHT
BEGIN:STANDARD
DTSTART:20241103T020000Z
TZOFFSETFROM:-0400
TZOFFSETTO:-0500
END:STANDARD
BEGIN:DAYLIGHT
DTSTART:20250309T020000Z
TZOFFSETFROM:-0500
TZOFFSETTO:-0400
END:DAYLIGHT
END:VTIMEZONE
BEGIN:VTIMEZONE
TZID:UTC
BEGIN:STANDARD
DTSTART:20250728T211247Z
TZOFFSETFROM:+0000
TZOFFSETTO:+0000
END:STANDARD
END:VTIMEZONE
BEGIN:VEVENT
UID:752-30
DTSTAMP:20260424T211247Z
SUMMARY:World Day of Prayer 8:00 pm\, 9/11/24 - 9:00 pm\, 9/12/24
LOCATION:
ORGANIZER;CN=minister:MAILTO:unityinthegrove@aol.com
DTSTART;TZID=America/New_York;VALUE=DATE:20240911
DTEND;TZID=America/New_York;VALUE=DATE:20240913
X-ALT-DESC;FMTTYPE=TEXT/HTML:Join Unity Village and people from all over th
 e world in participating in the annual World Day of Prayer. This 24-hour p
 rayer vigil is held 8:00 pm EDT\, Wednesday\, 9/11/24\, through 9:00 pm ED
 T\, Thursday\, 9/12/24. This year's theme is Moving Mountains. Click here 
 to register to participate- https://www.unity.org/event/world-day-prayer-2
 024
CATEGORIES:Special Events
URL;VALUE=URI:https://unitylakeland.org/mc-events/world-day-of-prayer-800-p
 m-9-11-24-900-pm-9-12-24/
METHOD:PUBLISH
END:VEVENT
END:VCALENDAR