BEGIN:VCALENDAR
VERSION:2.0
PRODID:spatie/icalendar-generator
DESCRIPTION:Events from Unity of Lakeland
X-WR-CALDESC:Events from Unity of Lakeland
REFRESH-INTERVAL;VALUE=DURATION:PT1440M
X-PUBLISHED-TTL:PT1440M
BEGIN:VTIMEZONE
TZID:America/New_York
BEGIN:STANDARD
DTSTART:20241103T020000Z
TZOFFSETFROM:-0400
TZOFFSETTO:-0500
END:STANDARD
BEGIN:DAYLIGHT
DTSTART:20250309T020000Z
TZOFFSETFROM:-0500
TZOFFSETTO:-0400
END:DAYLIGHT
END:VTIMEZONE
BEGIN:VTIMEZONE
TZID:UTC
BEGIN:STANDARD
DTSTART:20250728T211447Z
TZOFFSETFROM:+0000
TZOFFSETTO:+0000
END:STANDARD
END:VTIMEZONE
BEGIN:VEVENT
UID:71-2
DTSTAMP:20260424T211447Z
SUMMARY:Sunday Service
LOCATION:Unity of Lakeland 6230 Lakeland Highlands Rd.  Lakeland FL 33813
ORGANIZER;CN=minister:MAILTO:unityinthegrove@aol.com
RRULE:FREQ=WEEKLY;UNTIL=20251228T000000Z
DTSTART;TZID=America/New_York:20250427T103000
DTEND;TZID=America/New_York:20250427T113000
X-ALT-DESC;FMTTYPE=TEXT/HTML:
CATEGORIES:Sunday Service
URL;VALUE=URI:https://unitylakeland.org/mc-events/candlelight-sunday-servic
 e/?mc_id=71
METHOD:PUBLISH
END:VEVENT
END:VCALENDAR