BEGIN:VCALENDAR
VERSION:2.0
PRODID:spatie/icalendar-generator
DESCRIPTION:Events from Unity of Lakeland
X-WR-CALDESC:Events from Unity of Lakeland
REFRESH-INTERVAL;VALUE=DURATION:PT1440M
X-PUBLISHED-TTL:PT1440M
BEGIN:VTIMEZONE
TZID:America/New_York
BEGIN:STANDARD
DTSTART:20251102T020000Z
TZOFFSETFROM:-0400
TZOFFSETTO:-0500
END:STANDARD
BEGIN:DAYLIGHT
DTSTART:20260308T020000Z
TZOFFSETFROM:-0500
TZOFFSETTO:-0400
END:DAYLIGHT
END:VTIMEZONE
BEGIN:VTIMEZONE
TZID:UTC
BEGIN:STANDARD
DTSTART:20250728T154937Z
TZOFFSETFROM:+0000
TZOFFSETTO:+0000
END:STANDARD
END:VTIMEZONE
BEGIN:VEVENT
UID:644-24
DTSTAMP:20260424T154937Z
SUMMARY:Wednesday Morning Gentle Yoga
LOCATION:Unity of Lakeland 6230 Lakeland Highlands Rd.  Lakeland FL 33813
ORGANIZER;CN=minister:MAILTO:unityinthegrove@aol.com
RRULE:FREQ=WEEKLY;UNTIL=20280412T000000Z
DTSTART;TZID=America/New_York:20260429T100000
DTEND;TZID=America/New_York:20260429T110000
X-ALT-DESC;FMTTYPE=TEXT/HTML:Attend in-person or follow live on Facebook\, 
 https://www.facebook.com/yogaatunity
CATEGORIES:Yoga
URL;VALUE=URI:https://unitylakeland.org/mc-events/wednesday-morning-gentle-
 yoga/?mc_id=644
METHOD:PUBLISH
END:VEVENT
END:VCALENDAR