BEGIN:VCALENDAR
VERSION:2.0
PRODID:spatie/icalendar-generator
DESCRIPTION:Events from Unity of Lakeland
X-WR-CALDESC:Events from Unity of Lakeland
REFRESH-INTERVAL;VALUE=DURATION:PT1440M
X-PUBLISHED-TTL:PT1440M
BEGIN:VTIMEZONE
TZID:America/New_York
BEGIN:STANDARD
DTSTART:20251102T020000Z
TZOFFSETFROM:-0400
TZOFFSETTO:-0500
END:STANDARD
BEGIN:DAYLIGHT
DTSTART:20260308T020000Z
TZOFFSETFROM:-0500
TZOFFSETTO:-0400
END:DAYLIGHT
END:VTIMEZONE
BEGIN:VTIMEZONE
TZID:UTC
BEGIN:STANDARD
DTSTART:20250728T141157Z
TZOFFSETFROM:+0000
TZOFFSETTO:+0000
END:STANDARD
END:VTIMEZONE
BEGIN:VEVENT
UID:2097-40
DTSTAMP:20260424T141157Z
SUMMARY:Men's Group
LOCATION:Unity of Lakeland 6230 Lakeland Highlands Rd.  Lakeland FL 33813
ORGANIZER;CN=minister:MAILTO:unityinthegrove@aol.com
RRULE:FREQ=MONTHLY;BYDAY=3TU;UNTIL=20290515T000000Z
DTSTART;TZID=America/New_York:20260421T103000
DTEND;TZID=America/New_York:20260421T123000
X-ALT-DESC;FMTTYPE=TEXT/HTML:Join us to play bocce ball or indoor games\, d
 epending on weather. Bring your own snack/lunch and drink.
CATEGORIES:Special Events
URL;VALUE=URI:https://unitylakeland.org/mc-events/mens-group/?mc_id=2097
METHOD:PUBLISH
END:VEVENT
END:VCALENDAR