BEGIN:VCALENDAR
VERSION:2.0
PRODID:spatie/icalendar-generator
DESCRIPTION:Events from Unity of Lakeland
X-WR-CALDESC:Events from Unity of Lakeland
REFRESH-INTERVAL;VALUE=DURATION:PT1440M
X-PUBLISHED-TTL:PT1440M
BEGIN:VTIMEZONE
TZID:America/New_York
BEGIN:STANDARD
DTSTART:20251102T020000Z
TZOFFSETFROM:-0400
TZOFFSETTO:-0500
END:STANDARD
BEGIN:DAYLIGHT
DTSTART:20260308T020000Z
TZOFFSETFROM:-0500
TZOFFSETTO:-0400
END:DAYLIGHT
END:VTIMEZONE
BEGIN:VTIMEZONE
TZID:UTC
BEGIN:STANDARD
DTSTART:20250728T142204Z
TZOFFSETFROM:+0000
TZOFFSETTO:+0000
END:STANDARD
END:VTIMEZONE
BEGIN:VEVENT
UID:2039-10
DTSTAMP:20260424T142204Z
SUMMARY:Jewels for the Spirit
LOCATION:Unity of Lakeland 6230 Lakeland Highlands Rd.  Lakeland FL 33813
ORGANIZER;CN=minister:MAILTO:unityinthegrove@aol.com
RRULE:FREQ=MONTHLY;BYDAY=3SU;UNTIL=20300217T000000Z
DTSTART;TZID=America/New_York:20260419T120000
DTEND;TZID=America/New_York:20260419T133000
X-ALT-DESC;FMTTYPE=TEXT/HTML:Jewelry making class after the service with Co
 nnie Haynes.  Come and join in the fun! There is no charge for this event
  and all materials will be provided.  Just bring your enthusiasm and crea
 tivity!
CATEGORIES:Jewelry Making
URL;VALUE=URI:https://unitylakeland.org/mc-events/jewels-for-the-spirit/?mc
 _id=2039
METHOD:PUBLISH
END:VEVENT
END:VCALENDAR