BEGIN:VCALENDAR
VERSION:2.0
PRODID:spatie/icalendar-generator
DESCRIPTION:Events from Unity of Lakeland
X-WR-CALDESC:Events from Unity of Lakeland
REFRESH-INTERVAL;VALUE=DURATION:PT1440M
X-PUBLISHED-TTL:PT1440M
BEGIN:VTIMEZONE
TZID:America/New_York
BEGIN:STANDARD
DTSTART:20251102T020000Z
TZOFFSETFROM:-0400
TZOFFSETTO:-0500
END:STANDARD
BEGIN:DAYLIGHT
DTSTART:20260308T020000Z
TZOFFSETFROM:-0500
TZOFFSETTO:-0400
END:DAYLIGHT
END:VTIMEZONE
BEGIN:VTIMEZONE
TZID:UTC
BEGIN:STANDARD
DTSTART:20250728T155128Z
TZOFFSETFROM:+0000
TZOFFSETTO:+0000
END:STANDARD
END:VTIMEZONE
BEGIN:VEVENT
UID:1219-3
DTSTAMP:20260424T155128Z
SUMMARY:Tuesday Morning Yoga
LOCATION:Unity of Lakeland 6230 Lakeland Highlands Rd.  Lakeland FL 33813
ORGANIZER;CN=minister:MAILTO:unityinthegrove@aol.com
RRULE:FREQ=WEEKLY;UNTIL=20300101T000000Z
DTSTART;TZID=America/New_York:20260428T083000
DTEND;TZID=America/New_York:20260428T100000
X-ALT-DESC;FMTTYPE=TEXT/HTML:Class Descriptions Our classes are a community
  format so that all ages\, sizes\, and levels of experience will feel comf
 ortable. This hatha-based practice will vary weekly to increase diversity 
 in your practice. Modifications are always offered. Props Mats\, blocks\, 
 blankets\, and straps are provided\, but you are welcome to bring your ow
 n. Cost All classes are&amp;hellip\;
CATEGORIES:Yoga
URL;VALUE=URI:https://unitylakeland.org/mc-events/tuesday-morning-yoga/?mc_
 id=1219
METHOD:PUBLISH
END:VEVENT
END:VCALENDAR